BEGIN:VCALENDAR
VERSION:2.0
PRODID:-//explore Magazine - ECPv6.12.0.1//NONSGML v1.0//EN
CALSCALE:GREGORIAN
METHOD:PUBLISH
X-WR-CALNAME:explore Magazine
X-ORIGINAL-URL:https://explore-magazine.de
X-WR-CALDESC:Veranstaltungen für explore Magazine
REFRESH-INTERVAL;VALUE=DURATION:PT1H
X-Robots-Tag:noindex
X-PUBLISHED-TTL:PT1H

BEGIN:VEVENT
DTSTART;TZID=Europe/Berlin:20260422T130336
DTEND;TZID=Europe/Berlin:20260422T130336
DTSTAMP:20260422T130336
CREATED:20260211T150851Z
LAST-MODIFIED:20260211T150851Z
UID:10001119-0-0@explore-magazine.de
SUMMARY:Banff 2026: Salzburg
DESCRIPTION:Banff Mountain Film Festival World Tour 2026 in Salzburg. Die stärksten Outdoor-Momente des Jahres auf der großen Leinwand.\nAb Januar geht die Banff Tour 2026 wieder auf Reisen und bringt eine kuratierte Auswahl der besten Outdoor – und Abenteuerfilme des Jahres auf die Kinoleinwand. Das rund zweistündige Programm vereint herausragende internationale Produktionen und zeigt die ganze Bandbreite dessen\, was draußen möglich ist\, von großen Expeditionen über intensive sportliche Grenzerfahrungen bis hin zu stillen Naturmomenten und persönlichen Geschichten jenseits reiner Action. Für alle\, die Outdoor nicht nur als Hobby\, sondern als Lebensgefühl begreifen\, ist die Banff Tour 2026 ein fester Termin: als Inspiration für die eigene Saison und als Treffpunkt einer leidenschaftlichen Community.
URL:https://explore-magazine.de/kalender/banff-2026-salzburg/
LOCATION:Mozartkino Salzburg\, Kaigasse 33\, Salzburg\, 5020\, Österreich
CATEGORIES:Film Festival,Outdoor
ATTACH;FMTTYPE=image/jpeg:https://s3-eu-west-1.amazonaws.com/assets.pukit.de/mporade_new/wp-content/uploads/2026/01/BANFF26_KeyVisual_1920x1080_©Banff-National-Park-photo-by-Paul-Zizka.jpg
END:VEVENT
END:VCALENDAR