BEGIN:VCALENDAR
VERSION:2.0
PRODID:-//explore Magazine - ECPv6.12.0.1//NONSGML v1.0//EN
CALSCALE:GREGORIAN
METHOD:PUBLISH
X-WR-CALNAME:explore Magazine
X-ORIGINAL-URL:https://explore-magazine.de
X-WR-CALDESC:Veranstaltungen für explore Magazine
REFRESH-INTERVAL;VALUE=DURATION:PT1H
X-Robots-Tag:noindex
X-PUBLISHED-TTL:PT1H
BEGIN:VTIMEZONE
TZID:Europe/Berlin
BEGIN:DAYLIGHT
TZOFFSETFROM:+0100
TZOFFSETTO:+0200
TZNAME:CEST
DTSTART:20260329T010000
END:DAYLIGHT
BEGIN:STANDARD
TZOFFSETFROM:+0200
TZOFFSETTO:+0100
TZNAME:CET
DTSTART:20261025T010000
END:STANDARD
END:VTIMEZONE
BEGIN:VEVENT
DTSTART;TZID=Europe/Berlin:20260427T200000
DTEND;TZID=Europe/Berlin:20260427T230000
DTSTAMP:20260422T131006
CREATED:20260212T110320Z
LAST-MODIFIED:20260212T110320Z
UID:10001291-1777320000-1777330800@explore-magazine.de
SUMMARY:Ocean 2026: Bamberg
DESCRIPTION:Mit einem neuen\, eindrucksvollen Programm kehrt die International Ocean Film Tour 2026 zurück und präsentiert fünf außergewöhnliche Filme über Menschen\, die das Meer nicht nur bereisen\, sondern ihr Leben ganz nach ihm ausrichten. Von Hochsee-Expeditionen über Extremsport bis hin zu intensiven Naturbegegnungen und alternativen Lebensentwürfen zeigt die Ocean Film Tour eindrucksvoll\, wie vielfältig und inspirierend Abenteuer auf und im Ozean sein können.\nIm Mittelpunkt stehen Menschen\, die bewusst neue Wege einschlagen: eine Surf-Fotografin in einer der gefährlichsten Wellen der Welt\, ein Taucher\, dessen Begegnung mit einem Mantarochen alles verändert\, drei Brüder auf einem riskanten Projekt im Pazifik\, ein Kite-Team auf der Suche nach dem perfekten Wind und eine Familie\, die ihr Leben seit Jahrzehnten auf dem Ozean verbringt.
URL:https://explore-magazine.de/kalender/ocean-2026-bamberg/
LOCATION:Konzerthalle Bamberg\, Mußstr. 1\, Bamberg\, 96047\, Deutschland
CATEGORIES:Filmtour
ATTACH;FMTTYPE=image/jpeg:https://s3-eu-west-1.amazonaws.com/assets.pukit.de/mporade_new/wp-content/uploads/2026/01/OCEAN26_V12_KEYVISUAL_1920-x-1080_Media_Hub.jpg
ORGANIZER;CN="Moving Adventures":MAILTO:info@moving-adventures.de
END:VEVENT
BEGIN:VEVENT
DTSTART;TZID=Europe/Berlin:20260427T200000
DTEND;TZID=Europe/Berlin:20260427T230000
DTSTAMP:20260422T131006
CREATED:20260212T110322Z
LAST-MODIFIED:20260212T110322Z
UID:10001292-1777320000-1777330800@explore-magazine.de
SUMMARY:Ocean 2026: Essen
DESCRIPTION:Mit einem neuen\, eindrucksvollen Programm kehrt die International Ocean Film Tour 2026 zurück und präsentiert fünf außergewöhnliche Filme über Menschen\, die das Meer nicht nur bereisen\, sondern ihr Leben ganz nach ihm ausrichten. Von Hochsee-Expeditionen über Extremsport bis hin zu intensiven Naturbegegnungen und alternativen Lebensentwürfen zeigt die Ocean Film Tour eindrucksvoll\, wie vielfältig und inspirierend Abenteuer auf und im Ozean sein können.\nIm Mittelpunkt stehen Menschen\, die bewusst neue Wege einschlagen: eine Surf-Fotografin in einer der gefährlichsten Wellen der Welt\, ein Taucher\, dessen Begegnung mit einem Mantarochen alles verändert\, drei Brüder auf einem riskanten Projekt im Pazifik\, ein Kite-Team auf der Suche nach dem perfekten Wind und eine Familie\, die ihr Leben seit Jahrzehnten auf dem Ozean verbringt.
URL:https://explore-magazine.de/kalender/ocean-2026-essen-2/
LOCATION:Lichtburg Essen\, Kettwigerstr. 36\, Essen\, 45127\, Deutschland
CATEGORIES:Filmtour
ATTACH;FMTTYPE=image/jpeg:https://s3-eu-west-1.amazonaws.com/assets.pukit.de/mporade_new/wp-content/uploads/2026/01/OCEAN26_V12_KEYVISUAL_1920-x-1080_Media_Hub.jpg
ORGANIZER;CN="Moving Adventures":MAILTO:info@moving-adventures.de
END:VEVENT
BEGIN:VEVENT
DTSTART;TZID=Europe/Berlin:20260428T193000
DTEND;TZID=Europe/Berlin:20260428T223000
DTSTAMP:20260422T131006
CREATED:20260212T110359Z
LAST-MODIFIED:20260212T110359Z
UID:10001295-1777404600-1777415400@explore-magazine.de
SUMMARY:Ocean 2026: Leipzig
DESCRIPTION:Mit einem neuen\, eindrucksvollen Programm kehrt die International Ocean Film Tour 2026 zurück und präsentiert fünf außergewöhnliche Filme über Menschen\, die das Meer nicht nur bereisen\, sondern ihr Leben ganz nach ihm ausrichten. Von Hochsee-Expeditionen über Extremsport bis hin zu intensiven Naturbegegnungen und alternativen Lebensentwürfen zeigt die Ocean Film Tour eindrucksvoll\, wie vielfältig und inspirierend Abenteuer auf und im Ozean sein können.\nIm Mittelpunkt stehen Menschen\, die bewusst neue Wege einschlagen: eine Surf-Fotografin in einer der gefährlichsten Wellen der Welt\, ein Taucher\, dessen Begegnung mit einem Mantarochen alles verändert\, drei Brüder auf einem riskanten Projekt im Pazifik\, ein Kite-Team auf der Suche nach dem perfekten Wind und eine Familie\, die ihr Leben seit Jahrzehnten auf dem Ozean verbringt.
URL:https://explore-magazine.de/kalender/ocean-2026-leipzig-2/
CATEGORIES:Filmtour
ATTACH;FMTTYPE=image/jpeg:https://s3-eu-west-1.amazonaws.com/assets.pukit.de/mporade_new/wp-content/uploads/2026/01/OCEAN26_V12_KEYVISUAL_1920-x-1080_Media_Hub.jpg
ORGANIZER;CN="Moving Adventures":MAILTO:info@moving-adventures.de
END:VEVENT
BEGIN:VEVENT
DTSTART;TZID=Europe/Berlin:20260428T200000
DTEND;TZID=Europe/Berlin:20260428T230000
DTSTAMP:20260422T131006
CREATED:20260212T110326Z
LAST-MODIFIED:20260212T110326Z
UID:10001294-1777406400-1777417200@explore-magazine.de
SUMMARY:Ocean 2026: Hamburg
DESCRIPTION:Mit einem neuen\, eindrucksvollen Programm kehrt die International Ocean Film Tour 2026 zurück und präsentiert fünf außergewöhnliche Filme über Menschen\, die das Meer nicht nur bereisen\, sondern ihr Leben ganz nach ihm ausrichten. Von Hochsee-Expeditionen über Extremsport bis hin zu intensiven Naturbegegnungen und alternativen Lebensentwürfen zeigt die Ocean Film Tour eindrucksvoll\, wie vielfältig und inspirierend Abenteuer auf und im Ozean sein können.\nIm Mittelpunkt stehen Menschen\, die bewusst neue Wege einschlagen: eine Surf-Fotografin in einer der gefährlichsten Wellen der Welt\, ein Taucher\, dessen Begegnung mit einem Mantarochen alles verändert\, drei Brüder auf einem riskanten Projekt im Pazifik\, ein Kite-Team auf der Suche nach dem perfekten Wind und eine Familie\, die ihr Leben seit Jahrzehnten auf dem Ozean verbringt.
URL:https://explore-magazine.de/kalender/ocean-2026-hamburg-3/
CATEGORIES:Filmtour
ATTACH;FMTTYPE=image/jpeg:https://s3-eu-west-1.amazonaws.com/assets.pukit.de/mporade_new/wp-content/uploads/2026/01/OCEAN26_V12_KEYVISUAL_1920-x-1080_Media_Hub.jpg
ORGANIZER;CN="Moving Adventures":MAILTO:info@moving-adventures.de
END:VEVENT
BEGIN:VEVENT
DTSTART;TZID=Europe/Berlin:20260428T200000
DTEND;TZID=Europe/Berlin:20260428T230000
DTSTAMP:20260422T131006
CREATED:20260212T110401Z
LAST-MODIFIED:20260212T110401Z
UID:10001296-1777406400-1777417200@explore-magazine.de
SUMMARY:Ocean 2026: Münster
DESCRIPTION:Mit einem neuen\, eindrucksvollen Programm kehrt die International Ocean Film Tour 2026 zurück und präsentiert fünf außergewöhnliche Filme über Menschen\, die das Meer nicht nur bereisen\, sondern ihr Leben ganz nach ihm ausrichten. Von Hochsee-Expeditionen über Extremsport bis hin zu intensiven Naturbegegnungen und alternativen Lebensentwürfen zeigt die Ocean Film Tour eindrucksvoll\, wie vielfältig und inspirierend Abenteuer auf und im Ozean sein können.\nIm Mittelpunkt stehen Menschen\, die bewusst neue Wege einschlagen: eine Surf-Fotografin in einer der gefährlichsten Wellen der Welt\, ein Taucher\, dessen Begegnung mit einem Mantarochen alles verändert\, drei Brüder auf einem riskanten Projekt im Pazifik\, ein Kite-Team auf der Suche nach dem perfekten Wind und eine Familie\, die ihr Leben seit Jahrzehnten auf dem Ozean verbringt.
URL:https://explore-magazine.de/kalender/ocean-2026-muenster-2/
CATEGORIES:Filmtour
ATTACH;FMTTYPE=image/jpeg:https://s3-eu-west-1.amazonaws.com/assets.pukit.de/mporade_new/wp-content/uploads/2026/01/OCEAN26_V12_KEYVISUAL_1920-x-1080_Media_Hub.jpg
ORGANIZER;CN="Moving Adventures":MAILTO:info@moving-adventures.de
END:VEVENT
BEGIN:VEVENT
DTSTART;TZID=Europe/Berlin:20260429T193000
DTEND;TZID=Europe/Berlin:20260429T223000
DTSTAMP:20260422T131006
CREATED:20260212T110404Z
LAST-MODIFIED:20260212T110404Z
UID:10001298-1777491000-1777501800@explore-magazine.de
SUMMARY:Ocean 2026: Düsseldorf
DESCRIPTION:Mit einem neuen\, eindrucksvollen Programm kehrt die International Ocean Film Tour 2026 zurück und präsentiert fünf außergewöhnliche Filme über Menschen\, die das Meer nicht nur bereisen\, sondern ihr Leben ganz nach ihm ausrichten. Von Hochsee-Expeditionen über Extremsport bis hin zu intensiven Naturbegegnungen und alternativen Lebensentwürfen zeigt die Ocean Film Tour eindrucksvoll\, wie vielfältig und inspirierend Abenteuer auf und im Ozean sein können.\nIm Mittelpunkt stehen Menschen\, die bewusst neue Wege einschlagen: eine Surf-Fotografin in einer der gefährlichsten Wellen der Welt\, ein Taucher\, dessen Begegnung mit einem Mantarochen alles verändert\, drei Brüder auf einem riskanten Projekt im Pazifik\, ein Kite-Team auf der Suche nach dem perfekten Wind und eine Familie\, die ihr Leben seit Jahrzehnten auf dem Ozean verbringt.
URL:https://explore-magazine.de/kalender/ocean-2026-duesseldorf-3/
LOCATION:Savoy Theater Düsseldorf\, Graf-Adolf-Str. 47\, Düsseldorf\, 40210\, Deutschland
CATEGORIES:Filmtour
ATTACH;FMTTYPE=image/jpeg:https://s3-eu-west-1.amazonaws.com/assets.pukit.de/mporade_new/wp-content/uploads/2026/01/OCEAN26_V12_KEYVISUAL_1920-x-1080_Media_Hub.jpg
ORGANIZER;CN="Moving Adventures":MAILTO:info@moving-adventures.de
END:VEVENT
BEGIN:VEVENT
DTSTART;TZID=Europe/Berlin:20260429T200000
DTEND;TZID=Europe/Berlin:20260429T230000
DTSTAMP:20260422T131006
CREATED:20260212T110403Z
LAST-MODIFIED:20260212T110403Z
UID:10001297-1777492800-1777503600@explore-magazine.de
SUMMARY:Ocean 2026: Berlin
DESCRIPTION:Mit einem neuen\, eindrucksvollen Programm kehrt die International Ocean Film Tour 2026 zurück und präsentiert fünf außergewöhnliche Filme über Menschen\, die das Meer nicht nur bereisen\, sondern ihr Leben ganz nach ihm ausrichten. Von Hochsee-Expeditionen über Extremsport bis hin zu intensiven Naturbegegnungen und alternativen Lebensentwürfen zeigt die Ocean Film Tour eindrucksvoll\, wie vielfältig und inspirierend Abenteuer auf und im Ozean sein können.\nIm Mittelpunkt stehen Menschen\, die bewusst neue Wege einschlagen: eine Surf-Fotografin in einer der gefährlichsten Wellen der Welt\, ein Taucher\, dessen Begegnung mit einem Mantarochen alles verändert\, drei Brüder auf einem riskanten Projekt im Pazifik\, ein Kite-Team auf der Suche nach dem perfekten Wind und eine Familie\, die ihr Leben seit Jahrzehnten auf dem Ozean verbringt.
URL:https://explore-magazine.de/kalender/ocean-2026-berlin-2/
CATEGORIES:Filmtour
ATTACH;FMTTYPE=image/jpeg:https://s3-eu-west-1.amazonaws.com/assets.pukit.de/mporade_new/wp-content/uploads/2026/01/OCEAN26_V12_KEYVISUAL_1920-x-1080_Media_Hub.jpg
ORGANIZER;CN="Moving Adventures":MAILTO:info@moving-adventures.de
END:VEVENT
BEGIN:VEVENT
DTSTART;TZID=Europe/Berlin:20260429T200000
DTEND;TZID=Europe/Berlin:20260429T230000
DTSTAMP:20260422T131006
CREATED:20260212T110406Z
LAST-MODIFIED:20260212T110406Z
UID:10001299-1777492800-1777503600@explore-magazine.de
SUMMARY:Ocean 2026: Flensburg
DESCRIPTION:Mit einem neuen\, eindrucksvollen Programm kehrt die International Ocean Film Tour 2026 zurück und präsentiert fünf außergewöhnliche Filme über Menschen\, die das Meer nicht nur bereisen\, sondern ihr Leben ganz nach ihm ausrichten. Von Hochsee-Expeditionen über Extremsport bis hin zu intensiven Naturbegegnungen und alternativen Lebensentwürfen zeigt die Ocean Film Tour eindrucksvoll\, wie vielfältig und inspirierend Abenteuer auf und im Ozean sein können.\nIm Mittelpunkt stehen Menschen\, die bewusst neue Wege einschlagen: eine Surf-Fotografin in einer der gefährlichsten Wellen der Welt\, ein Taucher\, dessen Begegnung mit einem Mantarochen alles verändert\, drei Brüder auf einem riskanten Projekt im Pazifik\, ein Kite-Team auf der Suche nach dem perfekten Wind und eine Familie\, die ihr Leben seit Jahrzehnten auf dem Ozean verbringt.
URL:https://explore-magazine.de/kalender/ocean-2026-flensburg-2/
LOCATION:UCI Kinowelt Flensburg\, Süderhofenden 14\, Flensburg\, 24937\, Deutschland
CATEGORIES:Filmtour
ATTACH;FMTTYPE=image/jpeg:https://s3-eu-west-1.amazonaws.com/assets.pukit.de/mporade_new/wp-content/uploads/2026/01/OCEAN26_V12_KEYVISUAL_1920-x-1080_Media_Hub.jpg
ORGANIZER;CN="Moving Adventures":MAILTO:info@moving-adventures.de
END:VEVENT
BEGIN:VEVENT
DTSTART;TZID=Europe/Berlin:20260430T193000
DTEND;TZID=Europe/Berlin:20260430T223000
DTSTAMP:20260422T131006
CREATED:20260212T130747Z
LAST-MODIFIED:20260212T130747Z
UID:10001300-1777577400-1777588200@explore-magazine.de
SUMMARY:Ocean 2026: Erfurt
DESCRIPTION:Mit einem neuen\, eindrucksvollen Programm kehrt die International Ocean Film Tour 2026 zurück und präsentiert fünf außergewöhnliche Filme über Menschen\, die das Meer nicht nur bereisen\, sondern ihr Leben ganz nach ihm ausrichten. Von Hochsee-Expeditionen über Extremsport bis hin zu intensiven Naturbegegnungen und alternativen Lebensentwürfen zeigt die Ocean Film Tour eindrucksvoll\, wie vielfältig und inspirierend Abenteuer auf und im Ozean sein können.\nIm Mittelpunkt stehen Menschen\, die bewusst neue Wege einschlagen: eine Surf-Fotografin in einer der gefährlichsten Wellen der Welt\, ein Taucher\, dessen Begegnung mit einem Mantarochen alles verändert\, drei Brüder auf einem riskanten Projekt im Pazifik\, ein Kite-Team auf der Suche nach dem perfekten Wind und eine Familie\, die ihr Leben seit Jahrzehnten auf dem Ozean verbringt.
URL:https://explore-magazine.de/kalender/ocean-2026-erfurt/
LOCATION:Kaisersaal Erfurt\, Futterstrasse 15/16\, Erfurt\, 99084\, Deutschland
CATEGORIES:Filmtour
ATTACH;FMTTYPE=image/jpeg:https://s3-eu-west-1.amazonaws.com/assets.pukit.de/mporade_new/wp-content/uploads/2026/01/OCEAN26_V12_KEYVISUAL_1920-x-1080_Media_Hub.jpg
ORGANIZER;CN="Moving Adventures":MAILTO:info@moving-adventures.de
END:VEVENT
END:VCALENDAR