BEGIN:VCALENDAR
VERSION:2.0
PRODID:-//explore Magazine - ECPv6.12.0.1//NONSGML v1.0//EN
CALSCALE:GREGORIAN
METHOD:PUBLISH
X-ORIGINAL-URL:https://explore-magazine.de
X-WR-CALDESC:Veranstaltungen für explore Magazine
REFRESH-INTERVAL;VALUE=DURATION:PT1H
X-Robots-Tag:noindex
X-PUBLISHED-TTL:PT1H
BEGIN:VTIMEZONE
TZID:Europe/Berlin
BEGIN:DAYLIGHT
TZOFFSETFROM:+0100
TZOFFSETTO:+0200
TZNAME:CEST
DTSTART:20260329T010000
END:DAYLIGHT
BEGIN:STANDARD
TZOFFSETFROM:+0200
TZOFFSETTO:+0100
TZNAME:CET
DTSTART:20261025T010000
END:STANDARD
END:VTIMEZONE
BEGIN:VEVENT
DTSTART;TZID=Europe/Berlin:20260426T120000
DTEND;TZID=Europe/Berlin:20260426T150000
DTSTAMP:20260425T234431
CREATED:20260212T110305Z
LAST-MODIFIED:20260212T110305Z
UID:10001288-1777204800-1777215600@explore-magazine.de
SUMMARY:Ocean 2026: Kiel
DESCRIPTION:Mit einem neuen\, eindrucksvollen Programm kehrt die International Ocean Film Tour 2026 zurück und präsentiert fünf außergewöhnliche Filme über Menschen\, die das Meer nicht nur bereisen\, sondern ihr Leben ganz nach ihm ausrichten. Von Hochsee-Expeditionen über Extremsport bis hin zu intensiven Naturbegegnungen und alternativen Lebensentwürfen zeigt die Ocean Film Tour eindrucksvoll\, wie vielfältig und inspirierend Abenteuer auf und im Ozean sein können.\nIm Mittelpunkt stehen Menschen\, die bewusst neue Wege einschlagen: eine Surf-Fotografin in einer der gefährlichsten Wellen der Welt\, ein Taucher\, dessen Begegnung mit einem Mantarochen alles verändert\, drei Brüder auf einem riskanten Projekt im Pazifik\, ein Kite-Team auf der Suche nach dem perfekten Wind und eine Familie\, die ihr Leben seit Jahrzehnten auf dem Ozean verbringt.
URL:https://explore-magazine.de/kalender/ocean-2026-kiel-4/
LOCATION:Studio Filmtheater Kiel\, Wilhelminenstr. 10\, Kiel\, 24103\, Deutschland
CATEGORIES:Filmtour
ATTACH;FMTTYPE=image/jpeg:https://s3-eu-west-1.amazonaws.com/assets.pukit.de/mporade_new/wp-content/uploads/2026/01/OCEAN26_V12_KEYVISUAL_1920-x-1080_Media_Hub.jpg
ORGANIZER;CN="Moving Adventures":MAILTO:info@moving-adventures.de
END:VEVENT
BEGIN:VEVENT
DTSTART;TZID=Europe/Berlin:20260426T160000
DTEND;TZID=Europe/Berlin:20260426T190000
DTSTAMP:20260425T234431
CREATED:20260212T110307Z
LAST-MODIFIED:20260212T110307Z
UID:10001289-1777219200-1777230000@explore-magazine.de
SUMMARY:Ocean 2026: Kiel
DESCRIPTION:Mit einem neuen\, eindrucksvollen Programm kehrt die International Ocean Film Tour 2026 zurück und präsentiert fünf außergewöhnliche Filme über Menschen\, die das Meer nicht nur bereisen\, sondern ihr Leben ganz nach ihm ausrichten. Von Hochsee-Expeditionen über Extremsport bis hin zu intensiven Naturbegegnungen und alternativen Lebensentwürfen zeigt die Ocean Film Tour eindrucksvoll\, wie vielfältig und inspirierend Abenteuer auf und im Ozean sein können.\nIm Mittelpunkt stehen Menschen\, die bewusst neue Wege einschlagen: eine Surf-Fotografin in einer der gefährlichsten Wellen der Welt\, ein Taucher\, dessen Begegnung mit einem Mantarochen alles verändert\, drei Brüder auf einem riskanten Projekt im Pazifik\, ein Kite-Team auf der Suche nach dem perfekten Wind und eine Familie\, die ihr Leben seit Jahrzehnten auf dem Ozean verbringt.
URL:https://explore-magazine.de/kalender/ocean-2026-kiel-5/
LOCATION:Studio Filmtheater Kiel\, Wilhelminenstr. 10\, Kiel\, 24103\, Deutschland
CATEGORIES:Filmtour
ATTACH;FMTTYPE=image/jpeg:https://s3-eu-west-1.amazonaws.com/assets.pukit.de/mporade_new/wp-content/uploads/2026/01/OCEAN26_V12_KEYVISUAL_1920-x-1080_Media_Hub.jpg
ORGANIZER;CN="Moving Adventures":MAILTO:info@moving-adventures.de
END:VEVENT
BEGIN:VEVENT
DTSTART;TZID=Europe/Berlin:20260426T200000
DTEND;TZID=Europe/Berlin:20260426T230000
DTSTAMP:20260425T234431
CREATED:20260212T110319Z
LAST-MODIFIED:20260212T110319Z
UID:10001290-1777233600-1777244400@explore-magazine.de
SUMMARY:Ocean 2026: Kiel
DESCRIPTION:Mit einem neuen\, eindrucksvollen Programm kehrt die International Ocean Film Tour 2026 zurück und präsentiert fünf außergewöhnliche Filme über Menschen\, die das Meer nicht nur bereisen\, sondern ihr Leben ganz nach ihm ausrichten. Von Hochsee-Expeditionen über Extremsport bis hin zu intensiven Naturbegegnungen und alternativen Lebensentwürfen zeigt die Ocean Film Tour eindrucksvoll\, wie vielfältig und inspirierend Abenteuer auf und im Ozean sein können.\nIm Mittelpunkt stehen Menschen\, die bewusst neue Wege einschlagen: eine Surf-Fotografin in einer der gefährlichsten Wellen der Welt\, ein Taucher\, dessen Begegnung mit einem Mantarochen alles verändert\, drei Brüder auf einem riskanten Projekt im Pazifik\, ein Kite-Team auf der Suche nach dem perfekten Wind und eine Familie\, die ihr Leben seit Jahrzehnten auf dem Ozean verbringt.
URL:https://explore-magazine.de/kalender/ocean-2026-kiel-6/
LOCATION:Studio Filmtheater Kiel\, Wilhelminenstr. 10\, Kiel\, 24103\, Deutschland
CATEGORIES:Filmtour
ATTACH;FMTTYPE=image/jpeg:https://s3-eu-west-1.amazonaws.com/assets.pukit.de/mporade_new/wp-content/uploads/2026/01/OCEAN26_V12_KEYVISUAL_1920-x-1080_Media_Hub.jpg
ORGANIZER;CN="Moving Adventures":MAILTO:info@moving-adventures.de
END:VEVENT
END:VCALENDAR