BEGIN:VCALENDAR
VERSION:2.0
PRODID:-//explore Magazine - ECPv6.12.0.1//NONSGML v1.0//EN
CALSCALE:GREGORIAN
METHOD:PUBLISH
X-ORIGINAL-URL:https://explore-magazine.de
X-WR-CALDESC:Veranstaltungen für explore Magazine
REFRESH-INTERVAL;VALUE=DURATION:PT1H
X-Robots-Tag:noindex
X-PUBLISHED-TTL:PT1H
BEGIN:VTIMEZONE
TZID:Europe/Berlin
BEGIN:DAYLIGHT
TZOFFSETFROM:+0100
TZOFFSETTO:+0200
TZNAME:CEST
DTSTART:20250330T010000
END:DAYLIGHT
BEGIN:STANDARD
TZOFFSETFROM:+0200
TZOFFSETTO:+0100
TZNAME:CET
DTSTART:20251026T010000
END:STANDARD
END:VTIMEZONE
BEGIN:VEVENT
DTSTART;VALUE=DATE:20250625
DTEND;VALUE=DATE:20250630
DTSTAMP:20260423T031639
CREATED:20250325T114247Z
LAST-MODIFIED:20250325T114247Z
UID:10000604-1750809600-1751241599@explore-magazine.de
SUMMARY:Eurobike 2025
DESCRIPTION:Eurobike 2025 – Vom 25. bis 29. Juni in Frankfurt\nBald ist es so weit: Die Eurobike 2025 geht in die 33. Runde! \nVom 25. bis 29. Juni verwandelt sich die Messe Frankfurt erneut in den internationalen Treffpunkt für die Fahrrad- und Ecomobility-Branche. Hier dreht sich alles um Innovationen\, Networking und den Austausch über wegweisende Trends. \nFachbesucher: 25. bis 27. Juni 2025 \nDie Eurobike setzt auch 2025 auf ihr bewährtes Format: Vom 25. bis 27. Juni sind zunächst Fachbesucher willkommen. \nEurobike Festival Days: 28. und 29. Juni 2025 \nDie Event-Days für alle Bike- und Outdoor-Begeisterten starten am 28. und 29. Juni.  Auf die Besucher warten spannende Vorträge\, aufregende Produktneuheiten und zahlreiche Möglichkeiten\, die neuesten Produkte live zu testen. Ein besonderes Highlight für Outdoor- und Bike-Enthusiasten: die frisch ins Leben gerufene Adventure Area. \nTickets gibt es hier!
URL:https://explore-magazine.de/kalender/eurobike-2025/
LOCATION:Messe Frankfurt\, Ludwig-Erhard-Anlage 1\, Frankfurt\, Hessen\, 60327
CATEGORIES:Messe
ATTACH;FMTTYPE=image/jpeg:https://s3-eu-west-1.amazonaws.com/assets.pukit.de/mporade_new/wp-content/uploads/2025/03/Eurobike_2024_FB_3430.jpg
END:VEVENT
END:VCALENDAR