BEGIN:VCALENDAR
VERSION:2.0
PRODID:-//explore Magazine - ECPv6.12.0.1//NONSGML v1.0//EN
CALSCALE:GREGORIAN
METHOD:PUBLISH
X-ORIGINAL-URL:https://explore-magazine.de
X-WR-CALDESC:Veranstaltungen für explore Magazine
REFRESH-INTERVAL;VALUE=DURATION:PT1H
X-Robots-Tag:noindex
X-PUBLISHED-TTL:PT1H
BEGIN:VTIMEZONE
TZID:Europe/Berlin
BEGIN:DAYLIGHT
TZOFFSETFROM:+0100
TZOFFSETTO:+0200
TZNAME:CEST
DTSTART:20260329T010000
END:DAYLIGHT
BEGIN:STANDARD
TZOFFSETFROM:+0200
TZOFFSETTO:+0100
TZNAME:CET
DTSTART:20261025T010000
END:STANDARD
END:VTIMEZONE
BEGIN:VEVENT
DTSTART;TZID=Europe/Berlin:20260325T193000
DTEND;TZID=Europe/Berlin:20260325T223000
DTSTAMP:20260425T224747
CREATED:20260212T110033Z
LAST-MODIFIED:20260212T110033Z
UID:10001252-1774467000-1774477800@explore-magazine.de
SUMMARY:Ocean 2026: Kassel
DESCRIPTION:Mit einem neuen\, eindrucksvollen Programm kehrt die International Ocean Film Tour 2026 zurück und präsentiert fünf außergewöhnliche Filme über Menschen\, die das Meer nicht nur bereisen\, sondern ihr Leben ganz nach ihm ausrichten. Von Hochsee-Expeditionen über Extremsport bis hin zu intensiven Naturbegegnungen und alternativen Lebensentwürfen zeigt die Ocean Film Tour eindrucksvoll\, wie vielfältig und inspirierend Abenteuer auf und im Ozean sein können.\nIm Mittelpunkt stehen Menschen\, die bewusst neue Wege einschlagen: eine Surf-Fotografin in einer der gefährlichsten Wellen der Welt\, ein Taucher\, dessen Begegnung mit einem Mantarochen alles verändert\, drei Brüder auf einem riskanten Projekt im Pazifik\, ein Kite-Team auf der Suche nach dem perfekten Wind und eine Familie\, die ihr Leben seit Jahrzehnten auf dem Ozean verbringt.
URL:https://explore-magazine.de/kalender/ocean-2026-kassel/
LOCATION:Cineplex Capitol Kassel\, Wilhelmsstraße 2a\, Kassel\, 34117\, Deutschland
CATEGORIES:Filmtour
ATTACH;FMTTYPE=image/jpeg:https://s3-eu-west-1.amazonaws.com/assets.pukit.de/mporade_new/wp-content/uploads/2026/01/OCEAN26_V12_KEYVISUAL_1920-x-1080_Media_Hub.jpg
ORGANIZER;CN="Moving Adventures":MAILTO:info@moving-adventures.de
END:VEVENT
BEGIN:VEVENT
DTSTART;TZID=Europe/Berlin:20260325T193000
DTEND;TZID=Europe/Berlin:20260325T223000
DTSTAMP:20260425T224747
CREATED:20260212T110035Z
LAST-MODIFIED:20260212T110035Z
UID:10001253-1774467000-1774477800@explore-magazine.de
SUMMARY:Ocean 2026: Rosenheim
DESCRIPTION:Mit einem neuen\, eindrucksvollen Programm kehrt die International Ocean Film Tour 2026 zurück und präsentiert fünf außergewöhnliche Filme über Menschen\, die das Meer nicht nur bereisen\, sondern ihr Leben ganz nach ihm ausrichten. Von Hochsee-Expeditionen über Extremsport bis hin zu intensiven Naturbegegnungen und alternativen Lebensentwürfen zeigt die Ocean Film Tour eindrucksvoll\, wie vielfältig und inspirierend Abenteuer auf und im Ozean sein können.\nIm Mittelpunkt stehen Menschen\, die bewusst neue Wege einschlagen: eine Surf-Fotografin in einer der gefährlichsten Wellen der Welt\, ein Taucher\, dessen Begegnung mit einem Mantarochen alles verändert\, drei Brüder auf einem riskanten Projekt im Pazifik\, ein Kite-Team auf der Suche nach dem perfekten Wind und eine Familie\, die ihr Leben seit Jahrzehnten auf dem Ozean verbringt.
URL:https://explore-magazine.de/kalender/ocean-2026-rosenheim/
LOCATION:Ballhaus Rosenheim\, Weinstr. 12\, Rosenheim\, 83022\, Deutschland
CATEGORIES:Filmtour
ATTACH;FMTTYPE=image/jpeg:https://s3-eu-west-1.amazonaws.com/assets.pukit.de/mporade_new/wp-content/uploads/2026/01/OCEAN26_V12_KEYVISUAL_1920-x-1080_Media_Hub.jpg
ORGANIZER;CN="Moving Adventures":MAILTO:info@moving-adventures.de
END:VEVENT
BEGIN:VEVENT
DTSTART;TZID=Europe/Berlin:20260325T200000
DTEND;TZID=Europe/Berlin:20260325T230000
DTSTAMP:20260425T224747
CREATED:20260212T110031Z
LAST-MODIFIED:20260212T110031Z
UID:10001251-1774468800-1774479600@explore-magazine.de
SUMMARY:Ocean 2026: Aachen
DESCRIPTION:Mit einem neuen\, eindrucksvollen Programm kehrt die International Ocean Film Tour 2026 zurück und präsentiert fünf außergewöhnliche Filme über Menschen\, die das Meer nicht nur bereisen\, sondern ihr Leben ganz nach ihm ausrichten. Von Hochsee-Expeditionen über Extremsport bis hin zu intensiven Naturbegegnungen und alternativen Lebensentwürfen zeigt die Ocean Film Tour eindrucksvoll\, wie vielfältig und inspirierend Abenteuer auf und im Ozean sein können.\nIm Mittelpunkt stehen Menschen\, die bewusst neue Wege einschlagen: eine Surf-Fotografin in einer der gefährlichsten Wellen der Welt\, ein Taucher\, dessen Begegnung mit einem Mantarochen alles verändert\, drei Brüder auf einem riskanten Projekt im Pazifik\, ein Kite-Team auf der Suche nach dem perfekten Wind und eine Familie\, die ihr Leben seit Jahrzehnten auf dem Ozean verbringt.
URL:https://explore-magazine.de/kalender/ocean-2026-aachen/
CATEGORIES:Filmtour
ATTACH;FMTTYPE=image/jpeg:https://s3-eu-west-1.amazonaws.com/assets.pukit.de/mporade_new/wp-content/uploads/2026/01/OCEAN26_V12_KEYVISUAL_1920-x-1080_Media_Hub.jpg
ORGANIZER;CN="Moving Adventures":MAILTO:info@moving-adventures.de
END:VEVENT
BEGIN:VEVENT
DTSTART;TZID=Europe/Berlin:20260326T193000
DTEND;TZID=Europe/Berlin:20260326T223000
DTSTAMP:20260425T224747
CREATED:20260212T110038Z
LAST-MODIFIED:20260212T110038Z
UID:10001255-1774553400-1774564200@explore-magazine.de
SUMMARY:Ocean 2026: Chemnitz
DESCRIPTION:Mit einem neuen\, eindrucksvollen Programm kehrt die International Ocean Film Tour 2026 zurück und präsentiert fünf außergewöhnliche Filme über Menschen\, die das Meer nicht nur bereisen\, sondern ihr Leben ganz nach ihm ausrichten. Von Hochsee-Expeditionen über Extremsport bis hin zu intensiven Naturbegegnungen und alternativen Lebensentwürfen zeigt die Ocean Film Tour eindrucksvoll\, wie vielfältig und inspirierend Abenteuer auf und im Ozean sein können.\nIm Mittelpunkt stehen Menschen\, die bewusst neue Wege einschlagen: eine Surf-Fotografin in einer der gefährlichsten Wellen der Welt\, ein Taucher\, dessen Begegnung mit einem Mantarochen alles verändert\, drei Brüder auf einem riskanten Projekt im Pazifik\, ein Kite-Team auf der Suche nach dem perfekten Wind und eine Familie\, die ihr Leben seit Jahrzehnten auf dem Ozean verbringt.
URL:https://explore-magazine.de/kalender/ocean-2026-chemnitz/
LOCATION:Kongress- und Veranstaltungszentrum LUXOR Chemnitz\, Hartmannstraße 11\, Chemnitz\, 9113\, Deutschland
CATEGORIES:Filmtour
ATTACH;FMTTYPE=image/jpeg:https://s3-eu-west-1.amazonaws.com/assets.pukit.de/mporade_new/wp-content/uploads/2026/01/OCEAN26_V12_KEYVISUAL_1920-x-1080_Media_Hub.jpg
ORGANIZER;CN="Moving Adventures":MAILTO:info@moving-adventures.de
END:VEVENT
BEGIN:VEVENT
DTSTART;TZID=Europe/Berlin:20260326T193000
DTEND;TZID=Europe/Berlin:20260326T223000
DTSTAMP:20260425T224747
CREATED:20260212T110047Z
LAST-MODIFIED:20260212T110047Z
UID:10001257-1774553400-1774564200@explore-magazine.de
SUMMARY:Ocean 2026: Stralsund
DESCRIPTION:Mit einem neuen\, eindrucksvollen Programm kehrt die International Ocean Film Tour 2026 zurück und präsentiert fünf außergewöhnliche Filme über Menschen\, die das Meer nicht nur bereisen\, sondern ihr Leben ganz nach ihm ausrichten. Von Hochsee-Expeditionen über Extremsport bis hin zu intensiven Naturbegegnungen und alternativen Lebensentwürfen zeigt die Ocean Film Tour eindrucksvoll\, wie vielfältig und inspirierend Abenteuer auf und im Ozean sein können.\nIm Mittelpunkt stehen Menschen\, die bewusst neue Wege einschlagen: eine Surf-Fotografin in einer der gefährlichsten Wellen der Welt\, ein Taucher\, dessen Begegnung mit einem Mantarochen alles verändert\, drei Brüder auf einem riskanten Projekt im Pazifik\, ein Kite-Team auf der Suche nach dem perfekten Wind und eine Familie\, die ihr Leben seit Jahrzehnten auf dem Ozean verbringt.
URL:https://explore-magazine.de/kalender/ocean-2026-stralsund-2/
CATEGORIES:Filmtour
ATTACH;FMTTYPE=image/jpeg:https://s3-eu-west-1.amazonaws.com/assets.pukit.de/mporade_new/wp-content/uploads/2026/01/OCEAN26_V12_KEYVISUAL_1920-x-1080_Media_Hub.jpg
ORGANIZER;CN="Moving Adventures":MAILTO:info@moving-adventures.de
END:VEVENT
BEGIN:VEVENT
DTSTART;TZID=Europe/Berlin:20260326T200000
DTEND;TZID=Europe/Berlin:20260326T230000
DTSTAMP:20260425T224747
CREATED:20260212T110037Z
LAST-MODIFIED:20260212T110037Z
UID:10001254-1774555200-1774566000@explore-magazine.de
SUMMARY:Ocean 2026: Augsburg
DESCRIPTION:Mit einem neuen\, eindrucksvollen Programm kehrt die International Ocean Film Tour 2026 zurück und präsentiert fünf außergewöhnliche Filme über Menschen\, die das Meer nicht nur bereisen\, sondern ihr Leben ganz nach ihm ausrichten. Von Hochsee-Expeditionen über Extremsport bis hin zu intensiven Naturbegegnungen und alternativen Lebensentwürfen zeigt die Ocean Film Tour eindrucksvoll\, wie vielfältig und inspirierend Abenteuer auf und im Ozean sein können.\nIm Mittelpunkt stehen Menschen\, die bewusst neue Wege einschlagen: eine Surf-Fotografin in einer der gefährlichsten Wellen der Welt\, ein Taucher\, dessen Begegnung mit einem Mantarochen alles verändert\, drei Brüder auf einem riskanten Projekt im Pazifik\, ein Kite-Team auf der Suche nach dem perfekten Wind und eine Familie\, die ihr Leben seit Jahrzehnten auf dem Ozean verbringt.
URL:https://explore-magazine.de/kalender/ocean-2026-augsburg-2/
LOCATION:CinemaxX Augsburg\, Willy-Brandt-Platz 2\, Augsburg\, 86153\, Deutschland
CATEGORIES:Filmtour
ATTACH;FMTTYPE=image/jpeg:https://s3-eu-west-1.amazonaws.com/assets.pukit.de/mporade_new/wp-content/uploads/2026/01/OCEAN26_V12_KEYVISUAL_1920-x-1080_Media_Hub.jpg
ORGANIZER;CN="Moving Adventures":MAILTO:info@moving-adventures.de
END:VEVENT
BEGIN:VEVENT
DTSTART;TZID=Europe/Berlin:20260326T200000
DTEND;TZID=Europe/Berlin:20260326T230000
DTSTAMP:20260425T224747
CREATED:20260212T110045Z
LAST-MODIFIED:20260212T110045Z
UID:10001256-1774555200-1774566000@explore-magazine.de
SUMMARY:Ocean 2026: Saarbrücken
DESCRIPTION:Mit einem neuen\, eindrucksvollen Programm kehrt die International Ocean Film Tour 2026 zurück und präsentiert fünf außergewöhnliche Filme über Menschen\, die das Meer nicht nur bereisen\, sondern ihr Leben ganz nach ihm ausrichten. Von Hochsee-Expeditionen über Extremsport bis hin zu intensiven Naturbegegnungen und alternativen Lebensentwürfen zeigt die Ocean Film Tour eindrucksvoll\, wie vielfältig und inspirierend Abenteuer auf und im Ozean sein können.\nIm Mittelpunkt stehen Menschen\, die bewusst neue Wege einschlagen: eine Surf-Fotografin in einer der gefährlichsten Wellen der Welt\, ein Taucher\, dessen Begegnung mit einem Mantarochen alles verändert\, drei Brüder auf einem riskanten Projekt im Pazifik\, ein Kite-Team auf der Suche nach dem perfekten Wind und eine Familie\, die ihr Leben seit Jahrzehnten auf dem Ozean verbringt.
URL:https://explore-magazine.de/kalender/ocean-2026-saarbruecken-2/
CATEGORIES:Filmtour
ATTACH;FMTTYPE=image/jpeg:https://s3-eu-west-1.amazonaws.com/assets.pukit.de/mporade_new/wp-content/uploads/2026/01/OCEAN26_V12_KEYVISUAL_1920-x-1080_Media_Hub.jpg
ORGANIZER;CN="Moving Adventures":MAILTO:info@moving-adventures.de
END:VEVENT
BEGIN:VEVENT
DTSTART;TZID=Europe/Berlin:20260327T193000
DTEND;TZID=Europe/Berlin:20260327T223000
DTSTAMP:20260425T224747
CREATED:20260212T110049Z
LAST-MODIFIED:20260212T110049Z
UID:10001258-1774639800-1774650600@explore-magazine.de
SUMMARY:Ocean 2026: Heidelberg
DESCRIPTION:Mit einem neuen\, eindrucksvollen Programm kehrt die International Ocean Film Tour 2026 zurück und präsentiert fünf außergewöhnliche Filme über Menschen\, die das Meer nicht nur bereisen\, sondern ihr Leben ganz nach ihm ausrichten. Von Hochsee-Expeditionen über Extremsport bis hin zu intensiven Naturbegegnungen und alternativen Lebensentwürfen zeigt die Ocean Film Tour eindrucksvoll\, wie vielfältig und inspirierend Abenteuer auf und im Ozean sein können.\nIm Mittelpunkt stehen Menschen\, die bewusst neue Wege einschlagen: eine Surf-Fotografin in einer der gefährlichsten Wellen der Welt\, ein Taucher\, dessen Begegnung mit einem Mantarochen alles verändert\, drei Brüder auf einem riskanten Projekt im Pazifik\, ein Kite-Team auf der Suche nach dem perfekten Wind und eine Familie\, die ihr Leben seit Jahrzehnten auf dem Ozean verbringt.
URL:https://explore-magazine.de/kalender/ocean-2026-heidelberg-3/
LOCATION:Musik- und Singschule Heidelberg\, Kirchstraße 2\, Heidelberg\, 69115\, Deutschland
CATEGORIES:Filmtour
ATTACH;FMTTYPE=image/jpeg:https://s3-eu-west-1.amazonaws.com/assets.pukit.de/mporade_new/wp-content/uploads/2026/01/OCEAN26_V12_KEYVISUAL_1920-x-1080_Media_Hub.jpg
ORGANIZER;CN="Moving Adventures":MAILTO:info@moving-adventures.de
END:VEVENT
END:VCALENDAR